8.000000000
0.000000
0.000000
-8.000000000
523116.51281330
151705.94374744
