8.000000000
0.000000
0.000000
-8.000000000
523118.12748793
151715.80511460
