8.000000000
0.000000
0.000000
-8.000000000
523122.10658510
151692.90492222
