8.000000000
0.000000
0.000000
-8.000000000
522933.54811725
151718.10006051
