8.000000000
0.000000
0.000000
-8.000000000
522933.82450412
151706.05363630
