8.000000000
0.000000
0.000000
-8.000000000
522932.66480893
151715.64070081
