8.000000000
0.000000
0.000000
-8.000000000
522810.56381657
151890.39568974
