8.000000000
0.000000
0.000000
-8.000000000
522815.98455699
151897.73917266
