8.000000000
0.000000
0.000000
-8.000000000
522816.62780796
151898.03994719
