8.000000000
0.000000
0.000000
-8.000000000
522814.75579851
151901.76882393
