8.000000000
0.000000
0.000000
-8.000000000
522756.72276476
152529.65524518
