8.000000000
0.000000
0.000000
-8.000000000
522758.75756179
152521.90997271
