8.000000000
0.000000
0.000000
-8.000000000
522787.44754333
151079.48117973
