8.000000000
0.000000
0.000000
-8.000000000
515147.75102003
153398.89159242
