8.000000000
0.000000
0.000000
-8.000000000
515145.81944432
153413.43175467
