8.000000000
0.000000
0.000000
-8.000000000
515134.60891116
153388.57281562
