8.000000000
0.000000
0.000000
-8.000000000
515127.92173695
153398.23747500
