8.000000000
0.000000
0.000000
-8.000000000
516231.66419570
153413.13327905
