8.000000000
0.000000
0.000000
-8.000000000
516239.36828809
153399.75047208
