8.000000000
0.000000
0.000000
-8.000000000
516238.06469781
153397.91533593
