8.000000000
0.000000
0.000000
-8.000000000
516234.91420276
153385.60602336
