8.000000000
0.000000
0.000000
-8.000000000
516421.16006806
153399.76018255
