8.000000000
0.000000
0.000000
-8.000000000
516420.51247516
153399.15133856
