8.000000000
0.000000
0.000000
-8.000000000
516404.71537208
153381.45454974
