8.000000000
0.000000
0.000000
-8.000000000
516402.53431185
153393.52724641
