8.000000000
0.000000
0.000000
-8.000000000
516425.80293092
153317.55661441
