8.000000000
0.000000
0.000000
-8.000000000
516423.04535965
153318.52029697
