8.000000000
0.000000
0.000000
-8.000000000
516206.51828298
152532.77702636
