8.000000000
0.000000
0.000000
-8.000000000
516204.97628382
152529.09233345
