8.000000000
0.000000
0.000000
-8.000000000
516234.37733934
152528.07629219
