8.000000000
0.000000
0.000000
-8.000000000
516254.89880540
152532.43026137
