8.000000000
0.000000
0.000000
-8.000000000
516258.70554009
152530.21709975
