8.000000000
0.000000
0.000000
-8.000000000
516133.03706608
152144.06865083
