8.000000000
0.000000
0.000000
-8.000000000
516140.65513235
152139.95092438
