8.000000000
0.000000
0.000000
-8.000000000
516159.11748836
152133.83334306
