8.000000000
0.000000
0.000000
-8.000000000
516156.17560055
152136.96123064
