8.000000000
0.000000
0.000000
-8.000000000
516101.95923695
151927.40451515
