8.000000000
0.000000
0.000000
-8.000000000
516100.16673328
151936.69281140
