8.000000000
0.000000
0.000000
-8.000000000
516079.90238651
151935.73264142
