8.000000000
0.000000
0.000000
-8.000000000
515966.03986682
151337.59173120
