8.000000000
0.000000
0.000000
-8.000000000
515974.62474284
151341.79824216
