8.000000000
0.000000
0.000000
-8.000000000
516011.11589181
151344.39043995
