8.000000000
0.000000
0.000000
-8.000000000
516004.42845448
151338.61410834
