8.000000000
0.000000
0.000000
-8.000000000
515985.71391391
150855.59874987
