8.000000000
0.000000
0.000000
-8.000000000
515982.38631732
150846.07121476
