8.000000000
0.000000
0.000000
-8.000000000
516881.84768105
150190.38265129
