8.000000000
0.000000
0.000000
-8.000000000
517498.83751454
150166.68284099
