8.000000000
0.000000
0.000000
-8.000000000
517491.54549537
150195.49819583
