8.000000000
0.000000
0.000000
-8.000000000
517490.95945027
150199.52037052
