8.000000000
0.000000
0.000000
-8.000000000
517498.11557770
150160.51653481
